BEGIN:VCALENDAR
VERSION:2.0
PRODID:-//Hauts De France Formations - ECPv6.15.20//NONSGML v1.0//EN
CALSCALE:GREGORIAN
METHOD:PUBLISH
X-WR-CALNAME:Hauts De France Formations
X-ORIGINAL-URL:https://hdf-formations.com
X-WR-CALDESC:Évènements pour Hauts De France Formations
REFRESH-INTERVAL;VALUE=DURATION:PT1H
X-Robots-Tag:noindex
X-PUBLISHED-TTL:PT1H
BEGIN:VTIMEZONE
TZID:Europe/Paris
BEGIN:DAYLIGHT
TZOFFSETFROM:+0100
TZOFFSETTO:+0200
TZNAME:CEST
DTSTART:20250330T010000
END:DAYLIGHT
BEGIN:STANDARD
TZOFFSETFROM:+0200
TZOFFSETTO:+0100
TZNAME:CET
DTSTART:20251026T010000
END:STANDARD
BEGIN:DAYLIGHT
TZOFFSETFROM:+0100
TZOFFSETTO:+0200
TZNAME:CEST
DTSTART:20260329T010000
END:DAYLIGHT
BEGIN:STANDARD
TZOFFSETFROM:+0200
TZOFFSETTO:+0100
TZNAME:CET
DTSTART:20261025T010000
END:STANDARD
BEGIN:DAYLIGHT
TZOFFSETFROM:+0100
TZOFFSETTO:+0200
TZNAME:CEST
DTSTART:20270328T010000
END:DAYLIGHT
BEGIN:STANDARD
TZOFFSETFROM:+0200
TZOFFSETTO:+0100
TZNAME:CET
DTSTART:20271031T010000
END:STANDARD
END:VTIMEZONE
BEGIN:VEVENT
DTSTART;VALUE=DATE:20260601
DTEND;VALUE=DATE:20260604
DTSTAMP:20260425T130256
CREATED:20260327T085811Z
LAST-MODIFIED:20260327T085811Z
UID:9104-1780272000-1780531199@hdf-formations.com
SUMMARY:Habilitation électrique électricien BT / H0(V)- Initiation
DESCRIPTION:Formation initiale aux risques électriques selon la NFC 18 510. \nHabilitation électrique électricien B1/B1V/B2/B2V/BR/BC. \nLe complément HTA est à effectué sur 1 journée supplémentaire H1 / H1V / H2 / H2V / HC à définir selon niveaux
URL:https://hdf-formations.com/calendrier/habilitation-electrique-electricien-bt-h0v-initiation-10/
LOCATION:HAUTS DE FRANCE FORMATIONS\, 9 bis rue jean jacques Rousseau\, NOEUX-LES-MINES\, 62290\, France
ORGANIZER;CN="hauts de france formations":MAILTO:a.brasseur@hdf-formations.com
END:VEVENT
BEGIN:VEVENT
DTSTART;VALUE=DATE:20260625
DTEND;VALUE=DATE:20260627
DTSTAMP:20260425T130256
CREATED:20260303T103112Z
LAST-MODIFIED:20260303T103112Z
UID:9052-1782345600-1782518399@hdf-formations.com
SUMMARY:Sauveteur Secouriste au Travail – SST Initial
DESCRIPTION:Le salarié sauveteur secouriste du travail (SST) a pour missions de porter les premiers secours à toute victime d’un accident du travail\, mais aussi de participer à la prévention des risques professionnels dans son entreprise.\nPour cela\, il doit acquérir des compétences spécifiques dans le cadre d’une formation initiale\, puis de suivre régulièrement une formation de maintien actualisation des compétences (MAC). \n  \nhttps://www.inrs.fr/services/formation/publics/sauveteur-secouriste.html
URL:https://hdf-formations.com/calendrier/sauveteur-secouriste-au-travail-sst-initial-2/
LOCATION:HAUTS DE FRANCE FORMATIONS\, 9 bis rue jean jacques Rousseau\, NOEUX-LES-MINES\, 62290\, France
ORGANIZER;CN="hauts de france formations":MAILTO:a.brasseur@hdf-formations.com
END:VEVENT
BEGIN:VEVENT
DTSTART;TZID=Europe/Paris:20260629T083000
DTEND;TZID=Europe/Paris:20260630T120000
DTSTAMP:20260425T130256
CREATED:20260327T085952Z
LAST-MODIFIED:20260327T085952Z
UID:9107-1782721800-1782820800@hdf-formations.com
SUMMARY:Habilitation Electrique - BS BEm Recyclage
DESCRIPTION:Formation recyclage Habilitation Electrique selon NFC 18 510 – BS et / ou BE Manoeuvres \nHabilitation électrique pour personnel non électricien ayant déjà suivi une formation initiale.
URL:https://hdf-formations.com/calendrier/habilitation-electrique-bs-bem-recyclage-6/
LOCATION:HAUTS DE FRANCE FORMATIONS\, 9 bis rue jean jacques Rousseau\, NOEUX-LES-MINES\, 62290\, France
ORGANIZER;CN="hauts de france formations":MAILTO:a.brasseur@hdf-formations.com
END:VEVENT
END:VCALENDAR