BEGIN:VCALENDAR
VERSION:2.0
PRODID:-//Hauts De France Formations - ECPv6.15.20//NONSGML v1.0//EN
CALSCALE:GREGORIAN
METHOD:PUBLISH
X-WR-CALNAME:Hauts De France Formations
X-ORIGINAL-URL:https://hdf-formations.com
X-WR-CALDESC:Évènements pour Hauts De France Formations
REFRESH-INTERVAL;VALUE=DURATION:PT1H
X-Robots-Tag:noindex
X-PUBLISHED-TTL:PT1H
BEGIN:VTIMEZONE
TZID:Europe/Paris
BEGIN:DAYLIGHT
TZOFFSETFROM:+0100
TZOFFSETTO:+0200
TZNAME:CEST
DTSTART:20250330T010000
END:DAYLIGHT
BEGIN:STANDARD
TZOFFSETFROM:+0200
TZOFFSETTO:+0100
TZNAME:CET
DTSTART:20251026T010000
END:STANDARD
BEGIN:DAYLIGHT
TZOFFSETFROM:+0100
TZOFFSETTO:+0200
TZNAME:CEST
DTSTART:20260329T010000
END:DAYLIGHT
BEGIN:STANDARD
TZOFFSETFROM:+0200
TZOFFSETTO:+0100
TZNAME:CET
DTSTART:20261025T010000
END:STANDARD
BEGIN:DAYLIGHT
TZOFFSETFROM:+0100
TZOFFSETTO:+0200
TZNAME:CEST
DTSTART:20270328T010000
END:DAYLIGHT
BEGIN:STANDARD
TZOFFSETFROM:+0200
TZOFFSETTO:+0100
TZNAME:CET
DTSTART:20271031T010000
END:STANDARD
END:VTIMEZONE
BEGIN:VEVENT
DTSTART;VALUE=DATE:20260504
DTEND;VALUE=DATE:20260505
DTSTAMP:20260423T105416
CREATED:20260129T080218Z
LAST-MODIFIED:20260129T080218Z
UID:8939-1777852800-1777939199@hdf-formations.com
SUMMARY:Habilitation électrique B0/H0(V) - Initial / Recyclage
DESCRIPTION:Habilitation électrique B0 – H0 (V) : opérations d’ordre non électrique (B0-H0-H0V) pour les exécutants ou chargés de chantier. \nFormation habilitation électrique selon NFC 18 510 – B0-H0(V) \nFormation Initiale ou recyclage pour Personnel non électricien.
URL:https://hdf-formations.com/calendrier/habilitation-electrique-b0-h0v-initial-recyclage-8/
LOCATION:HAUTS DE FRANCE FORMATIONS\, 9 bis rue jean jacques Rousseau\, NOEUX-LES-MINES\, 62290\, France
ORGANIZER;CN="hauts de france formations":MAILTO:a.brasseur@hdf-formations.com
END:VEVENT
BEGIN:VEVENT
DTSTART;TZID=Europe/Paris:20260504T083000
DTEND;TZID=Europe/Paris:20260505T170000
DTSTAMP:20260423T105416
CREATED:20260129T080107Z
LAST-MODIFIED:20260129T080107Z
UID:8937-1777883400-1778000400@hdf-formations.com
SUMMARY:Habilitation Electrique - BS BEm initial
DESCRIPTION:Formation initiale habilitation électrique selon NFC 18 510 – BS et / ou BE Manoeuvres. \nHabilitation électrique pour personnel non électricien. \n  \nBS-BE
URL:https://hdf-formations.com/calendrier/habilitation-electrique-bs-bem-initial/
LOCATION:HAUTS DE FRANCE FORMATIONS\, 9 bis rue jean jacques Rousseau\, NOEUX-LES-MINES\, 62290\, France
ORGANIZER;CN="hauts de france formations":MAILTO:a.brasseur@hdf-formations.com
END:VEVENT
BEGIN:VEVENT
DTSTART;TZID=Europe/Paris:20260506T083000
DTEND;TZID=Europe/Paris:20260507T170000
DTSTAMP:20260423T105416
CREATED:20260218T101719Z
LAST-MODIFIED:20260218T101719Z
UID:8986-1778056200-1778173200@hdf-formations.com
SUMMARY:Habilitation électrique électricien BT - Recyclage
DESCRIPTION:Formation aux risques électriques pour électricien selon la NFC 18 510. \nRecyclage habilitation électrique opérations d’ordre électrique en Basse Tension niveaux B1(V)/B2(V)/BR/BC – H0(v)
URL:https://hdf-formations.com/calendrier/habilitation-electrique-electricien-bt-recyclage-8/
LOCATION:HAUTS DE FRANCE FORMATIONS\, 9 bis rue jean jacques Rousseau\, NOEUX-LES-MINES\, 62290\, France
ORGANIZER;CN="hauts de france formations":MAILTO:a.brasseur@hdf-formations.com
END:VEVENT
BEGIN:VEVENT
DTSTART;VALUE=DATE:20260511
DTEND;VALUE=DATE:20260512
DTSTAMP:20260423T105416
CREATED:20260218T101854Z
LAST-MODIFIED:20260223T132643Z
UID:8988-1778457600-1778543999@hdf-formations.com
SUMMARY:AIPR (Formation + Examen)
DESCRIPTION:Formation / préparation et Examen AIPR (Autorisation d’intervention à Proximité des Réseaux). \nLes différents niveaux : \n\nConcepteur\nEncadrant\nOpérateur\n\nL’examen peut être effectué sans préparation préalable.
URL:https://hdf-formations.com/calendrier/aipr-formation-examen-5/
LOCATION:HAUTS DE FRANCE FORMATIONS\, 9 bis rue jean jacques Rousseau\, NOEUX-LES-MINES\, 62290\, France
ORGANIZER;CN="hauts de france formations":MAILTO:a.brasseur@hdf-formations.com
END:VEVENT
BEGIN:VEVENT
DTSTART;VALUE=DATE:20260512
DTEND;VALUE=DATE:20260514
DTSTAMP:20260423T105416
CREATED:20260312T125029Z
LAST-MODIFIED:20260312T125029Z
UID:9073-1778544000-1778716799@hdf-formations.com
SUMMARY:Recyclage habilitation électrique BT/HT
DESCRIPTION:Formation aux risques électriques selon la NFC 18 510 / A2 en recyclage. \nHabilitations électriques pour électricien niveaux basse tension B1/B1V/B2/B2V/BR/BC. \nHabilitations électriques pour électricien niveaux haute tension (HTA) H1 / H1V / H2 / H2V / HC.
URL:https://hdf-formations.com/calendrier/recyclage-habilitation-electrique-bt-ht-2/
LOCATION:HAUTS DE FRANCE FORMATIONS\, 9 bis rue jean jacques Rousseau\, NOEUX-LES-MINES\, 62290\, France
ORGANIZER;CN="hauts de france formations":MAILTO:a.brasseur@hdf-formations.com
END:VEVENT
END:VCALENDAR