BEGIN:VCALENDAR
VERSION:2.0
PRODID:-//Hauts De France Formations - ECPv6.15.20//NONSGML v1.0//EN
CALSCALE:GREGORIAN
METHOD:PUBLISH
X-WR-CALNAME:Hauts De France Formations
X-ORIGINAL-URL:https://hdf-formations.com
X-WR-CALDESC:Évènements pour Hauts De France Formations
REFRESH-INTERVAL;VALUE=DURATION:PT1H
X-Robots-Tag:noindex
X-PUBLISHED-TTL:PT1H
BEGIN:VTIMEZONE
TZID:Europe/Paris
BEGIN:DAYLIGHT
TZOFFSETFROM:+0100
TZOFFSETTO:+0200
TZNAME:CEST
DTSTART:20250330T010000
END:DAYLIGHT
BEGIN:STANDARD
TZOFFSETFROM:+0200
TZOFFSETTO:+0100
TZNAME:CET
DTSTART:20251026T010000
END:STANDARD
BEGIN:DAYLIGHT
TZOFFSETFROM:+0100
TZOFFSETTO:+0200
TZNAME:CEST
DTSTART:20260329T010000
END:DAYLIGHT
BEGIN:STANDARD
TZOFFSETFROM:+0200
TZOFFSETTO:+0100
TZNAME:CET
DTSTART:20261025T010000
END:STANDARD
BEGIN:DAYLIGHT
TZOFFSETFROM:+0100
TZOFFSETTO:+0200
TZNAME:CEST
DTSTART:20270328T010000
END:DAYLIGHT
BEGIN:STANDARD
TZOFFSETFROM:+0200
TZOFFSETTO:+0100
TZNAME:CET
DTSTART:20271031T010000
END:STANDARD
END:VTIMEZONE
BEGIN:VEVENT
DTSTART;TZID=Europe/Paris:20260302T083000
DTEND;TZID=Europe/Paris:20260303T170000
DTSTAMP:20260423T104316
CREATED:20260129T074625Z
LAST-MODIFIED:20260129T074625Z
UID:8925-1772440200-1772557200@hdf-formations.com
SUMMARY:Recyclage habilitation électrique BT/HT
DESCRIPTION:Formation aux risques électriques selon la NFC 18 510 / A2 en recyclage. \nHabilitations électriques pour électricien niveaux basse tension B1/B1V/B2/B2V/BR/BC. \nHabilitations électriques pour électricien niveaux haute tension (HTA) H1 / H1V / H2 / H2V / HC.
URL:https://hdf-formations.com/calendrier/recyclage-habilitation-electrique-bt-ht-11/
LOCATION:HAUTS DE FRANCE FORMATIONS\, 9 bis rue jean jacques Rousseau\, NOEUX-LES-MINES\, 62290\, France
ORGANIZER;CN="hauts de france formations":MAILTO:a.brasseur@hdf-formations.com
END:VEVENT
BEGIN:VEVENT
DTSTART;VALUE=DATE:20260306
DTEND;VALUE=DATE:20260307
DTSTAMP:20260423T104316
CREATED:20251205T102143Z
LAST-MODIFIED:20251205T102143Z
UID:8684-1772755200-1772841599@hdf-formations.com
SUMMARY:Sauveteur Secouriste du Travail (SST) - MAC / RECYCLAGE
DESCRIPTION:La formation MAC (Recyclage) SST permet de maintenir et d’actualiser vos compétences en secourisme\, en intégrant les évolutions récentes\, assurant ainsi que vous restiez opérationnel en cas d’urgence.
URL:https://hdf-formations.com/calendrier/sauveteur-secouriste-du-travail-sst-mac-recyclage/
LOCATION:HAUTS DE FRANCE FORMATIONS\, 9 bis rue jean jacques Rousseau\, NOEUX-LES-MINES\, 62290\, France
ORGANIZER;CN="hauts de france formations":MAILTO:a.brasseur@hdf-formations.com
END:VEVENT
BEGIN:VEVENT
DTSTART;TZID=Europe/Paris:20260309T083000
DTEND;TZID=Europe/Paris:20260310T120000
DTSTAMP:20260423T104316
CREATED:20260108T100133Z
LAST-MODIFIED:20260116T101647Z
UID:8801-1773045000-1773144000@hdf-formations.com
SUMMARY:Habilitation Electrique - BS BEm Recyclage
DESCRIPTION:Formation recyclage Habilitation Electrique selon NFC 18 510 – BS et / ou BE Manoeuvres \nHabilitation électrique pour personnel non électricien ayant déjà suivi une formation initiale.
URL:https://hdf-formations.com/calendrier/habilitation-electrique-bs-bem-recyclage-2/
LOCATION:HAUTS DE FRANCE FORMATIONS\, 9 bis rue jean jacques Rousseau\, NOEUX-LES-MINES\, 62290\, France
ORGANIZER;CN="hauts de france formations":MAILTO:a.brasseur@hdf-formations.com
END:VEVENT
BEGIN:VEVENT
DTSTART;VALUE=DATE:20260311
DTEND;VALUE=DATE:20260312
DTSTAMP:20260423T104316
CREATED:20241217T094617Z
LAST-MODIFIED:20260108T142354Z
UID:7515-1773187200-1773273599@hdf-formations.com
SUMMARY:Habilitation Mécanique - M0/M1/M2/MR/MC
DESCRIPTION:Dans les solutions à mettre en œuvre\, la prévention est prioritaire. Son principe est en effet de  supprimer ou de réduire le risque lié au phénomène dangereux\, en modifiant la conception ou les  caractéristiques de fonctionnement de la machine\, sans faire appel à des moyens de protection. \nAutant que possible\, les phénomènes dangereux sont identifiés et supprimés dès la conception.  L’identification d’un phénomène dangereux (par exemple d’origine mécanique : écrasement\,  cisaillement\, choc…) doit conduire à rechercher un autre procédé qui permettrait de le supprimer  avant d’envisager d’installer une protection. \nIl existe cinq niveaux d’habilitation aux risques mécaniques: M0\, M1\, M2\, MC et MR différenciés selon la nature du public concerné et des travaux ou interventions à réaliser. \nPublic M0 : Pour exécutants ou chargés de manoeuvres\, non mécaniciens\nPublic M1 : Pour exécutants de travaux de la spécialité\nPublic M2 : chargés de travaux\, responsables de chantiers voisinant des zones à risques.\nPublic MR : chargés d’interventions intervenant sur des ouvrages ou machines en service.\nPublic MC : chargés de consignations\, personnes devant réaliser la mise hors service et hors énergie de machines ou équipements\, dans des locaux ou emplacements pouvant présenter des risques divers.
URL:https://hdf-formations.com/calendrier/habilitation-mecanique/
LOCATION:HAUTS DE FRANCE FORMATIONS\, 9 bis rue jean jacques Rousseau\, NOEUX-LES-MINES\, 62290\, France
ORGANIZER;CN="hauts de france formations":MAILTO:a.brasseur@hdf-formations.com
END:VEVENT
BEGIN:VEVENT
DTSTART;VALUE=DATE:20260311
DTEND;VALUE=DATE:20260312
DTSTAMP:20260423T104316
CREATED:20260129T075313Z
LAST-MODIFIED:20260219T142208Z
UID:8928-1773187200-1773273599@hdf-formations.com
SUMMARY:Habilitation électrique Photovoltaïque - Recyclage
DESCRIPTION:Formation aux risques électriques en Photovoltaïque selon NFC 18 510 \nHabilitation BP ou BR PV (Non électricien / électricien) \n  \nL’habilitation électrique BP est destinée aux professionnels non-électriciens amenés à réaliser des opérations de base sur une chaîne photovoltaïque. Elle leur offre la possibilité d’installer et de raccorder des panneaux photovoltaïques en toute sécurité. \n  \nL’habilitation électrique BR Photovoltaïque est destinée aux professionnels électriciens amenés à réaliser\, en toute sécurité\, des interventions d’entretien et de dépannage d’ordre électrique sur des chaines photovoltaïques.
URL:https://hdf-formations.com/calendrier/habilitation-electrique-photovoltaique-recyclage/
LOCATION:HAUTS DE FRANCE FORMATIONS\, 9 bis rue jean jacques Rousseau\, NOEUX-LES-MINES\, 62290\, France
END:VEVENT
BEGIN:VEVENT
DTSTART;VALUE=DATE:20260312
DTEND;VALUE=DATE:20260313
DTSTAMP:20260423T104316
CREATED:20260108T100253Z
LAST-MODIFIED:20260108T100253Z
UID:8803-1773273600-1773359999@hdf-formations.com
SUMMARY:AIPR (Formation + Examen)
DESCRIPTION:Formation / préparation et Examen AIPR (Autorisation d’intervention à Proximité des Réseaux). \nLes différents niveaux : \n\nConcepteur\nEncadrant\nOpérateur\n\nL’examen peut être effectué sans préparation préalable.
URL:https://hdf-formations.com/calendrier/aipr-formation-examen-10/
LOCATION:HAUTS DE FRANCE FORMATIONS\, 9 bis rue jean jacques Rousseau\, NOEUX-LES-MINES\, 62290\, France
ORGANIZER;CN="hauts de france formations":MAILTO:a.brasseur@hdf-formations.com
END:VEVENT
BEGIN:VEVENT
DTSTART;TZID=Europe/Paris:20260316T083000
DTEND;TZID=Europe/Paris:20260317T170000
DTSTAMP:20260423T104316
CREATED:20260129T075547Z
LAST-MODIFIED:20260129T075547Z
UID:8930-1773649800-1773766800@hdf-formations.com
SUMMARY:Recyclage habilitation électrique BT/HT
DESCRIPTION:Formation aux risques électriques selon la NFC 18 510 / A2 en recyclage. \nHabilitations électriques pour électricien niveaux basse tension B1/B1V/B2/B2V/BR/BC. \nHabilitations électriques pour électricien niveaux haute tension (HTA) H1 / H1V / H2 / H2V / HC.
URL:https://hdf-formations.com/calendrier/recyclage-habilitation-electrique-bt-ht-12/
LOCATION:HAUTS DE FRANCE FORMATIONS\, 9 bis rue jean jacques Rousseau\, NOEUX-LES-MINES\, 62290\, France
ORGANIZER;CN="hauts de france formations":MAILTO:a.brasseur@hdf-formations.com
END:VEVENT
BEGIN:VEVENT
DTSTART;VALUE=DATE:20260319
DTEND;VALUE=DATE:20260321
DTSTAMP:20260423T104316
CREATED:20260108T142151Z
LAST-MODIFIED:20260108T142151Z
UID:8818-1773878400-1774051199@hdf-formations.com
SUMMARY:Sauveteur Secouriste au Travail – SST Initial
DESCRIPTION:Le salarié sauveteur secouriste du travail (SST) a pour missions de porter les premiers secours à toute victime d’un accident du travail\, mais aussi de participer à la prévention des risques professionnels dans son entreprise.\nPour cela\, il doit acquérir des compétences spécifiques dans le cadre d’une formation initiale\, puis de suivre régulièrement une formation de maintien actualisation des compétences (MAC). \n  \nhttps://www.inrs.fr/services/formation/publics/sauveteur-secouriste.html
URL:https://hdf-formations.com/calendrier/sauveteur-secouriste-au-travail-sst-initial/
LOCATION:HAUTS DE FRANCE FORMATIONS\, 9 bis rue jean jacques Rousseau\, NOEUX-LES-MINES\, 62290\, France
ORGANIZER;CN="hauts de france formations":MAILTO:a.brasseur@hdf-formations.com
END:VEVENT
BEGIN:VEVENT
DTSTART;TZID=Europe/Paris:20260323T083000
DTEND;TZID=Europe/Paris:20260324T170000
DTSTAMP:20260423T104316
CREATED:20260129T075752Z
LAST-MODIFIED:20260129T075752Z
UID:8932-1774254600-1774371600@hdf-formations.com
SUMMARY:Habilitation Electrique - BS BEm Recyclage
DESCRIPTION:Formation recyclage Habilitation Electrique selon NFC 18 510 – BS et / ou BE Manoeuvres \nHabilitation électrique pour personnel non électricien ayant déjà suivi une formation initiale.
URL:https://hdf-formations.com/calendrier/habilitation-electrique-bs-bem-recyclage-4/
END:VEVENT
BEGIN:VEVENT
DTSTART;VALUE=DATE:20260330
DTEND;VALUE=DATE:20260401
DTSTAMP:20260423T104316
CREATED:20260116T101133Z
LAST-MODIFIED:20260119T124250Z
UID:8863-1774828800-1775001599@hdf-formations.com
SUMMARY:Habilitation Electrique - BS BEm initial
DESCRIPTION:Formation initiale habilitation électrique selon NFC 18 510 – BS et / ou BE Manoeuvres. \nHabilitation électrique pour personnel non électricien. \n  \nBS-BE
URL:https://hdf-formations.com/calendrier/habilitation-electrique-bs-bem-initial-9/
LOCATION:HAUTS DE FRANCE FORMATIONS\, 9 bis rue jean jacques Rousseau\, NOEUX-LES-MINES\, 62290\, France
ORGANIZER;CN="hauts de france formations":MAILTO:a.brasseur@hdf-formations.com
END:VEVENT
BEGIN:VEVENT
DTSTART;VALUE=DATE:20260330
DTEND;VALUE=DATE:20260331
DTSTAMP:20260423T104316
CREATED:20260119T125153Z
LAST-MODIFIED:20260119T125153Z
UID:8883-1774828800-1774915199@hdf-formations.com
SUMMARY:Habilitation électrique B0/H0(V) - Initial / Recyclage
DESCRIPTION:Habilitation électrique B0 – H0 (V) : opérations d’ordre non électrique (B0-H0-H0V) pour les exécutants ou chargés de chantier. \nFormation habilitation électrique selon NFC 18 510 – B0-H0(V) \nFormation Initiale ou recyclage pour Personnel non électricien.
URL:https://hdf-formations.com/calendrier/habilitation-electrique-b0-h0v-initial-recyclage-9/
LOCATION:HAUTS DE FRANCE FORMATIONS\, 9 bis rue jean jacques Rousseau\, NOEUX-LES-MINES\, 62290\, France
ORGANIZER;CN="hauts de france formations":MAILTO:a.brasseur@hdf-formations.com
END:VEVENT
END:VCALENDAR