BEGIN:VCALENDAR
VERSION:2.0
PRODID:-//Hauts De France Formations - ECPv6.15.20//NONSGML v1.0//EN
CALSCALE:GREGORIAN
METHOD:PUBLISH
X-WR-CALNAME:Hauts De France Formations
X-ORIGINAL-URL:https://hdf-formations.com
X-WR-CALDESC:Évènements pour Hauts De France Formations
REFRESH-INTERVAL;VALUE=DURATION:PT1H
X-Robots-Tag:noindex
X-PUBLISHED-TTL:PT1H
BEGIN:VTIMEZONE
TZID:Europe/Paris
BEGIN:DAYLIGHT
TZOFFSETFROM:+0100
TZOFFSETTO:+0200
TZNAME:CEST
DTSTART:20250330T010000
END:DAYLIGHT
BEGIN:STANDARD
TZOFFSETFROM:+0200
TZOFFSETTO:+0100
TZNAME:CET
DTSTART:20251026T010000
END:STANDARD
BEGIN:DAYLIGHT
TZOFFSETFROM:+0100
TZOFFSETTO:+0200
TZNAME:CEST
DTSTART:20260329T010000
END:DAYLIGHT
BEGIN:STANDARD
TZOFFSETFROM:+0200
TZOFFSETTO:+0100
TZNAME:CET
DTSTART:20261025T010000
END:STANDARD
BEGIN:DAYLIGHT
TZOFFSETFROM:+0100
TZOFFSETTO:+0200
TZNAME:CEST
DTSTART:20270328T010000
END:DAYLIGHT
BEGIN:STANDARD
TZOFFSETFROM:+0200
TZOFFSETTO:+0100
TZNAME:CET
DTSTART:20271031T010000
END:STANDARD
END:VTIMEZONE
BEGIN:VEVENT
DTSTART;VALUE=DATE:20260202
DTEND;VALUE=DATE:20260205
DTSTAMP:20260425T123809
CREATED:20251211T152812Z
LAST-MODIFIED:20251211T152812Z
UID:8711-1769990400-1770249599@hdf-formations.com
SUMMARY:Habilitation électrique électricien BT / H0(V)- Initiation
DESCRIPTION:Formation initiale aux risques électriques selon la NFC 18 510. \nHabilitation électrique électricien B1/B1V/B2/B2V/BR/BC. \nLe complément HTA est à effectué sur 1 journée supplémentaire H1 / H1V / H2 / H2V / HC à définir selon niveaux
URL:https://hdf-formations.com/calendrier/habilitation-electrique-electricien-bt-h0v-initiation-9/
LOCATION:HAUTS DE FRANCE FORMATIONS\, 9 bis rue jean jacques Rousseau\, NOEUX-LES-MINES\, 62290\, France
ORGANIZER;CN="hauts de france formations":MAILTO:a.brasseur@hdf-formations.com
END:VEVENT
BEGIN:VEVENT
DTSTART;VALUE=DATE:20260205
DTEND;VALUE=DATE:20260206
DTSTAMP:20260425T123809
CREATED:20251211T152855Z
LAST-MODIFIED:20251211T152855Z
UID:8713-1770249600-1770335999@hdf-formations.com
SUMMARY:Complément habilitation électrique Haute Tension (HT)
DESCRIPTION:Complément ou recyclage habilitation électrique en Haute Tension HTA selon NFC 18 510 sur 1 journée  H1 / H1V / H2 / H2V / HC à définir selon niveaux. \nComplément à l’habilitation électrique électricien B1/B1V/B2/B2V/BR/BC. \nPour plus d’informations : ICI \nBT\, HTA et HTB désignent différents niveaux de tension dans les habilitations électriques. BT correspond à la basse tension\, HTA à la haute tension A (haute tension) et HTB à la haute tension B (très haute tension). \nLa HTA (haute tension A) concerne les installations avec une tension supérieure à 1000 volts en courant alternatif ou 1500 volts en courant continu\, mais inférieure à 50 000 volts en courant alternatif et 75 000 volts en courant continu. Les opérations en HTA nécessitent une habilitation électrique haute tension en raison des risques associés d’amorçage. \nLes opérations sur des postes de distribution d’énergie publique\, d’alimentation industrielle et sur des transformateurs entrent généralement dans cette catégorie.
URL:https://hdf-formations.com/calendrier/complement-habilitation-electrique-haute-tension-ht-2/
LOCATION:HAUTS DE FRANCE FORMATIONS\, 9 bis rue jean jacques Rousseau\, NOEUX-LES-MINES\, 62290\, France
ORGANIZER;CN="hauts de france formations":MAILTO:a.brasseur@hdf-formations.com
END:VEVENT
BEGIN:VEVENT
DTSTART;TZID=Europe/Paris:20260212T080000
DTEND;TZID=Europe/Paris:20260213T170000
DTSTAMP:20260425T123809
CREATED:20260108T095910Z
LAST-MODIFIED:20260108T142824Z
UID:8799-1770883200-1771002000@hdf-formations.com
SUMMARY:Recyclage habilitation électrique BT/HT
DESCRIPTION:Formation de recyclage aux risques électriques selon la NFC 18 510 (A2). \nHabilitations électriques pour électricien niveaux basse tension (BT) B1/B1V/B2/B2V/BR/BC. \nHabilitations électriques pour électricien niveaux haute tension (HTA) H1 / H1V / H2 / H2V / HC.
URL:https://hdf-formations.com/calendrier/recyclage-habilitation-electrique-bt-ht-10/
LOCATION:HAUTS DE FRANCE FORMATIONS\, 9 bis rue jean jacques Rousseau\, NOEUX-LES-MINES\, 62290\, France
ORGANIZER;CN="hauts de france formations":MAILTO:a.brasseur@hdf-formations.com
END:VEVENT
BEGIN:VEVENT
DTSTART;VALUE=DATE:20260227
DTEND;VALUE=DATE:20260228
DTSTAMP:20260425T123809
CREATED:20260223T090200Z
LAST-MODIFIED:20260223T090200Z
UID:9022-1772150400-1772236799@hdf-formations.com
SUMMARY:Habilitation électrique B0/H0(V) - Initial / Recyclage
DESCRIPTION:Habilitation électrique B0 – H0 (V) : opérations d’ordre non électrique (B0-H0-H0V) pour les exécutants ou chargés de chantier. \nFormation habilitation électrique selon NFC 18 510 – B0-H0(V) \nFormation Initiale ou recyclage pour Personnel non électricien.
URL:https://hdf-formations.com/calendrier/habilitation-electrique-b0-h0v-initial-recyclage-10/
LOCATION:HAUTS DE FRANCE FORMATIONS\, 9 bis rue jean jacques Rousseau\, NOEUX-LES-MINES\, 62290\, France
ORGANIZER;CN="hauts de france formations":MAILTO:a.brasseur@hdf-formations.com
END:VEVENT
END:VCALENDAR