BEGIN:VCALENDAR
VERSION:2.0
PRODID:-//Hauts De France Formations - ECPv6.15.20//NONSGML v1.0//EN
CALSCALE:GREGORIAN
METHOD:PUBLISH
X-ORIGINAL-URL:https://hdf-formations.com
X-WR-CALDESC:Évènements pour Hauts De France Formations
REFRESH-INTERVAL;VALUE=DURATION:PT1H
X-Robots-Tag:noindex
X-PUBLISHED-TTL:PT1H
BEGIN:VTIMEZONE
TZID:Europe/Paris
BEGIN:DAYLIGHT
TZOFFSETFROM:+0100
TZOFFSETTO:+0200
TZNAME:CEST
DTSTART:20250330T010000
END:DAYLIGHT
BEGIN:STANDARD
TZOFFSETFROM:+0200
TZOFFSETTO:+0100
TZNAME:CET
DTSTART:20251026T010000
END:STANDARD
BEGIN:DAYLIGHT
TZOFFSETFROM:+0100
TZOFFSETTO:+0200
TZNAME:CEST
DTSTART:20260329T010000
END:DAYLIGHT
BEGIN:STANDARD
TZOFFSETFROM:+0200
TZOFFSETTO:+0100
TZNAME:CET
DTSTART:20261025T010000
END:STANDARD
BEGIN:DAYLIGHT
TZOFFSETFROM:+0100
TZOFFSETTO:+0200
TZNAME:CEST
DTSTART:20270328T010000
END:DAYLIGHT
BEGIN:STANDARD
TZOFFSETFROM:+0200
TZOFFSETTO:+0100
TZNAME:CET
DTSTART:20271031T010000
END:STANDARD
END:VTIMEZONE
BEGIN:VEVENT
DTSTART;VALUE=DATE:20260116
DTEND;VALUE=DATE:20260117
DTSTAMP:20260425T141719
CREATED:20251117T093436Z
LAST-MODIFIED:20251203T095749Z
UID:8595-1768521600-1768607999@hdf-formations.com
SUMMARY:AIPR (Formation + Examen)
DESCRIPTION:Formation / préparation et Examen AIPR (Autorisation d’intervention à Proximité des Réseaux). \nLes différents niveaux : \n\nConcepteur\nEncadrant\nOpérateur\n\nL’examen peut être effectué sans préparation préalable.
URL:https://hdf-formations.com/calendrier/aipr-formation-examen-9/
LOCATION:HAUTS DE FRANCE FORMATIONS\, 9 bis rue jean jacques Rousseau\, NOEUX-LES-MINES\, 62290\, France
END:VEVENT
BEGIN:VEVENT
DTSTART;TZID=Europe/Paris:20260119T083000
DTEND;TZID=Europe/Paris:20260121T170000
DTSTAMP:20260425T141719
CREATED:20251126T084453Z
LAST-MODIFIED:20260108T144111Z
UID:8637-1768811400-1769014800@hdf-formations.com
SUMMARY:Habilitation électrique électricien BT / H0(V)- Initiation
DESCRIPTION:Formation initiale aux risques électriques selon la NFC 18 510. \nHabilitation électrique électricien B1/B1V/B2/B2V/BR/BC. \nLe complément HTA est à effectué sur 1 journée supplémentaire H1 / H1V / H2 / H2V / HC à définir selon niveaux
URL:https://hdf-formations.com/calendrier/habilitation-electrique-electricien-bt-h0v-initiation-6/
LOCATION:HAUTS DE FRANCE FORMATIONS\, 9 bis rue jean jacques Rousseau\, NOEUX-LES-MINES\, 62290\, France
ORGANIZER;CN="hauts de france formations":MAILTO:a.brasseur@hdf-formations.com
END:VEVENT
BEGIN:VEVENT
DTSTART;VALUE=DATE:20260122
DTEND;VALUE=DATE:20260123
DTSTAMP:20260425T141719
CREATED:20251126T084622Z
LAST-MODIFIED:20251203T095737Z
UID:8639-1769040000-1769126399@hdf-formations.com
SUMMARY:Complément habilitation électrique Haute Tension (HT)
DESCRIPTION:Complément ou recyclage habilitation électrique en Haute Tension HTA selon NFC 18 510 sur 1 journée  H1 / H1V / H2 / H2V / HC à définir selon niveaux. \nComplément à l’habilitation électrique électricien B1/B1V/B2/B2V/BR/BC. \nPour plus d’informations : ICI \nBT\, HTA et HTB désignent différents niveaux de tension dans les habilitations électriques. BT correspond à la basse tension\, HTA à la haute tension A (haute tension) et HTB à la haute tension B (très haute tension). \nLa HTA (haute tension A) concerne les installations avec une tension supérieure à 1000 volts en courant alternatif ou 1500 volts en courant continu\, mais inférieure à 50 000 volts en courant alternatif et 75 000 volts en courant continu. Les opérations en HTA nécessitent une habilitation électrique haute tension en raison des risques associés d’amorçage. \nLes opérations sur des postes de distribution d’énergie publique\, d’alimentation industrielle et sur des transformateurs entrent généralement dans cette catégorie.
URL:https://hdf-formations.com/calendrier/complement-habilitation-electrique-haute-tension-ht/
LOCATION:HAUTS DE FRANCE FORMATIONS\, 9 bis rue jean jacques Rousseau\, NOEUX-LES-MINES\, 62290\, France
ORGANIZER;CN="hauts de france formations":MAILTO:a.brasseur@hdf-formations.com
END:VEVENT
BEGIN:VEVENT
DTSTART;VALUE=DATE:20260126
DTEND;VALUE=DATE:20260127
DTSTAMP:20260425T141719
CREATED:20260129T074059Z
LAST-MODIFIED:20260129T074059Z
UID:8922-1769385600-1769471999@hdf-formations.com
SUMMARY:Travail en Hateur / Port du Harnais
DESCRIPTION:La formation Travail en Hauteur permet de maîtriser les contraintes liées aux travail en hauteur et d’appréhender les mesures et pratiques de sécurité pour assurer la prévention d’incidents ou d’accidents. \nObjectifs : \n\n\n\nConnaître les règles générales de sécurité lors des travaux en hauteur. Connaître les différentes techniques de progression et de cheminement en hauteur. Maîtriser l’utilisation des Équipements de Protections Individuelle. Acquérir les différentes techniques de vérification et d’entretien de son matériel.
URL:https://hdf-formations.com/calendrier/travail-en-hateur-port-du-harnais/
LOCATION:HAUTS DE FRANCE FORMATIONS\, 9 bis rue jean jacques Rousseau\, NOEUX-LES-MINES\, 62290\, France
ORGANIZER;CN="hauts de france formations":MAILTO:a.brasseur@hdf-formations.com
END:VEVENT
BEGIN:VEVENT
DTSTART;TZID=Europe/Paris:20260126T083000
DTEND;TZID=Europe/Paris:20260127T170000
DTSTAMP:20260425T141719
CREATED:20251117T093652Z
LAST-MODIFIED:20260119T125932Z
UID:8597-1769416200-1769533200@hdf-formations.com
SUMMARY:Habilitation électrique électricien BT - Recyclage
DESCRIPTION:Formation aux risques électriques pour électricien selon la NFC 18 510. \nRecyclage habilitation électrique opérations d’ordre électrique en Basse Tension niveaux B1(V)/B2(V)/BR/BC – H0(v)
URL:https://hdf-formations.com/calendrier/habilitation-electrique-electricien-bt-recyclage-6/
LOCATION:HAUTS DE FRANCE FORMATIONS\, 9 bis rue jean jacques Rousseau\, NOEUX-LES-MINES\, 62290\, France
END:VEVENT
END:VCALENDAR