BEGIN:VCALENDAR
VERSION:2.0
PRODID:-//Hauts De France Formations - ECPv6.15.20//NONSGML v1.0//EN
CALSCALE:GREGORIAN
METHOD:PUBLISH
X-WR-CALNAME:Hauts De France Formations
X-ORIGINAL-URL:https://hdf-formations.com
X-WR-CALDESC:Évènements pour Hauts De France Formations
REFRESH-INTERVAL;VALUE=DURATION:PT1H
X-Robots-Tag:noindex
X-PUBLISHED-TTL:PT1H
BEGIN:VTIMEZONE
TZID:Europe/Paris
BEGIN:DAYLIGHT
TZOFFSETFROM:+0100
TZOFFSETTO:+0200
TZNAME:CEST
DTSTART:20240331T010000
END:DAYLIGHT
BEGIN:STANDARD
TZOFFSETFROM:+0200
TZOFFSETTO:+0100
TZNAME:CET
DTSTART:20241027T010000
END:STANDARD
BEGIN:DAYLIGHT
TZOFFSETFROM:+0100
TZOFFSETTO:+0200
TZNAME:CEST
DTSTART:20250330T010000
END:DAYLIGHT
BEGIN:STANDARD
TZOFFSETFROM:+0200
TZOFFSETTO:+0100
TZNAME:CET
DTSTART:20251026T010000
END:STANDARD
BEGIN:DAYLIGHT
TZOFFSETFROM:+0100
TZOFFSETTO:+0200
TZNAME:CEST
DTSTART:20260329T010000
END:DAYLIGHT
BEGIN:STANDARD
TZOFFSETFROM:+0200
TZOFFSETTO:+0100
TZNAME:CET
DTSTART:20261025T010000
END:STANDARD
END:VTIMEZONE
BEGIN:VEVENT
DTSTART;TZID=Europe/Paris:20251106T080000
DTEND;TZID=Europe/Paris:20251107T170000
DTSTAMP:20260425T173459
CREATED:20250505T095230Z
LAST-MODIFIED:20250505T095230Z
UID:7927-1762416000-1762534800@hdf-formations.com
SUMMARY:Habilitation Electrique - BS BEm Recyclage
DESCRIPTION:Formation recyclage Habilitation Electrique selon NFC 18 510 – BS et / ou BE Manoeuvres \nHabilitation électrique pour personnel non électricien
URL:https://hdf-formations.com/calendrier/habilitation-electrique-bs-bem-recyclage/
LOCATION:HAUTS DE FRANCE FORMATIONS\, 9 bis rue jean jacques Rousseau\, NOEUX-LES-MINES\, 62290\, France
ORGANIZER;CN="hauts de france formations":MAILTO:a.brasseur@hdf-formations.com
END:VEVENT
BEGIN:VEVENT
DTSTART;TZID=Europe/Paris:20251113T083000
DTEND;TZID=Europe/Paris:20251114T120000
DTSTAMP:20260425T173459
CREATED:20250930T075543Z
LAST-MODIFIED:20250930T075543Z
UID:8367-1763022600-1763121600@hdf-formations.com
SUMMARY:Habilitation électrique électricien BT - Recyclage
DESCRIPTION:Formation aux risques électriques pour électricien selon la NFC 18 510. \nRecyclage habilitation électrique opérations d’ordre électrique en Basse Tension niveaux B1(V)/B2(V)/BR/BC – H0(v)
URL:https://hdf-formations.com/calendrier/habilitation-electrique-electricien-bt-recyclage/
LOCATION:HAUTS DE FRANCE FORMATIONS\, 9 bis rue jean jacques Rousseau\, NOEUX-LES-MINES\, 62290\, France
ORGANIZER;CN="hauts de france formations":MAILTO:a.brasseur@hdf-formations.com
END:VEVENT
BEGIN:VEVENT
DTSTART;VALUE=DATE:20251117
DTEND;VALUE=DATE:20251119
DTSTAMP:20260425T173459
CREATED:20250828T134143Z
LAST-MODIFIED:20250828T134143Z
UID:8245-1763337600-1763510399@hdf-formations.com
SUMMARY:Habilitation Electrique - BS BEm initial
DESCRIPTION:Formation initiale habilitation électrique selon NFC 18 510 – BS et / ou BE Manoeuvres. \nHabilitation électrique pour personnel non électricien. \n  \nBS-BE
URL:https://hdf-formations.com/calendrier/habilitation-electrique-bs-bem-initial-8/
LOCATION:HAUTS DE FRANCE FORMATIONS\, 9 bis rue jean jacques Rousseau\, NOEUX-LES-MINES\, 62290\, France
ORGANIZER;CN="hauts de france formations":MAILTO:a.brasseur@hdf-formations.com
END:VEVENT
BEGIN:VEVENT
DTSTART;VALUE=DATE:20251117
DTEND;VALUE=DATE:20251118
DTSTAMP:20260425T173459
CREATED:20250930T075844Z
LAST-MODIFIED:20251112T133959Z
UID:8370-1763337600-1763423999@hdf-formations.com
SUMMARY:Habilitation électrique B0/H0(V) - Initial / Recyclage
DESCRIPTION:Habilitation électrique B0 – H0 (V) : opérations d’ordre non électrique (B0-H0-H0V) pour les exécutants ou chargés de chantier. \nFormation habilitation électrique selon NFC 18 510 – B0-H0(V) \nFormation Initiale ou recyclage pour Personnel non électricien.
URL:https://hdf-formations.com/calendrier/habilitation-electrique-b0-h0v-initial-recyclage-6/
LOCATION:HAUTS DE FRANCE FORMATIONS\, 9 bis rue jean jacques Rousseau\, NOEUX-LES-MINES\, 62290\, France
ORGANIZER;CN="hauts de france formations":MAILTO:a.brasseur@hdf-formations.com
END:VEVENT
BEGIN:VEVENT
DTSTART;VALUE=DATE:20251119
DTEND;VALUE=DATE:20251120
DTSTAMP:20260425T173459
CREATED:20251022T074211Z
LAST-MODIFIED:20251022T074211Z
UID:8480-1763510400-1763596799@hdf-formations.com
SUMMARY:AIPR (Formation + Examen)
DESCRIPTION:Formation / préparation et Examen AIPR (Autorisation d’intervention à Proximité des Réseaux). \nLes différents niveaux : \n\nConcepteur\nEncadrant\nOpérateur\n\nL’examen peut être effectué sans préparation préalable.
URL:https://hdf-formations.com/calendrier/aipr-formation-examen-2/
LOCATION:HAUTS DE FRANCE FORMATIONS\, 9 bis rue jean jacques Rousseau\, NOEUX-LES-MINES\, 62290\, France
ORGANIZER;CN="hauts de france formations":MAILTO:a.brasseur@hdf-formations.com
END:VEVENT
END:VCALENDAR