BEGIN:VCALENDAR
VERSION:2.0
PRODID:-//Hauts De France Formations - ECPv6.15.20//NONSGML v1.0//EN
CALSCALE:GREGORIAN
METHOD:PUBLISH
X-ORIGINAL-URL:https://hdf-formations.com
X-WR-CALDESC:Évènements pour Hauts De France Formations
REFRESH-INTERVAL;VALUE=DURATION:PT1H
X-Robots-Tag:noindex
X-PUBLISHED-TTL:PT1H
BEGIN:VTIMEZONE
TZID:Europe/Paris
BEGIN:DAYLIGHT
TZOFFSETFROM:+0100
TZOFFSETTO:+0200
TZNAME:CEST
DTSTART:20240331T010000
END:DAYLIGHT
BEGIN:STANDARD
TZOFFSETFROM:+0200
TZOFFSETTO:+0100
TZNAME:CET
DTSTART:20241027T010000
END:STANDARD
BEGIN:DAYLIGHT
TZOFFSETFROM:+0100
TZOFFSETTO:+0200
TZNAME:CEST
DTSTART:20250330T010000
END:DAYLIGHT
BEGIN:STANDARD
TZOFFSETFROM:+0200
TZOFFSETTO:+0100
TZNAME:CET
DTSTART:20251026T010000
END:STANDARD
BEGIN:DAYLIGHT
TZOFFSETFROM:+0100
TZOFFSETTO:+0200
TZNAME:CEST
DTSTART:20260329T010000
END:DAYLIGHT
BEGIN:STANDARD
TZOFFSETFROM:+0200
TZOFFSETTO:+0100
TZNAME:CET
DTSTART:20261025T010000
END:STANDARD
END:VTIMEZONE
BEGIN:VEVENT
DTSTART;VALUE=DATE:20250701
DTEND;VALUE=DATE:20250702
DTSTAMP:20260425T234431
CREATED:20250603T065107Z
LAST-MODIFIED:20250603T065107Z
UID:7987-1751328000-1751414399@hdf-formations.com
SUMMARY:AIPR (Formation + Examen)
DESCRIPTION:Formation / préparation et Examen AIPR (Autorisation d’intervention à Proximité des Réseaux). \nLes différents niveaux : \n\nConcepteur\nEncadrant\nOpérateur\n\nL’examen peut être effectué sans préparation préalable. \n  \nAutorisation d’Intervention à Proximité des Réseaux (AIPR)
URL:https://hdf-formations.com/calendrier/aipr-formation-examen-13/
LOCATION:HAUTS DE FRANCE FORMATIONS\, 9 bis rue jean jacques Rousseau\, NOEUX-LES-MINES\, 62290\, France
ORGANIZER;CN="hauts de france formations":MAILTO:a.brasseur@hdf-formations.com
END:VEVENT
BEGIN:VEVENT
DTSTART;VALUE=DATE:20250702
DTEND;VALUE=DATE:20250704
DTSTAMP:20260425T234431
CREATED:20250603T065621Z
LAST-MODIFIED:20250603T065854Z
UID:7992-1751414400-1751587199@hdf-formations.com
SUMMARY:Habilitation Electrique - BS BEm initial
DESCRIPTION:Formation initiale habilitation électrique selon NFC 18 510 – BS et / ou BE Manoeuvres. \nHabilitation électrique pour personnel non électricien.
URL:https://hdf-formations.com/calendrier/habilitation-electrique-bs-bem-initial-5/
LOCATION:HAUTS DE FRANCE FORMATIONS\, 9 bis rue jean jacques Rousseau\, NOEUX-LES-MINES\, 62290\, France
ORGANIZER;CN="hauts de france formations":MAILTO:a.brasseur@hdf-formations.com
END:VEVENT
BEGIN:VEVENT
DTSTART;VALUE=DATE:20250702
DTEND;VALUE=DATE:20250703
DTSTAMP:20260425T234431
CREATED:20250603T070041Z
LAST-MODIFIED:20250603T070041Z
UID:7994-1751414400-1751500799@hdf-formations.com
SUMMARY:Habilitation électrique B0/H0(V) - Initial / Recyclage
DESCRIPTION:Formation Habilitation Electrique selon NFC 18 510 – B0-H0(V) \nFormation Initiale ou recyclage pour Personnel non électricien.
URL:https://hdf-formations.com/calendrier/habilitation-electrique-b0-h0v-initial-recyclage-3/
LOCATION:HAUTS DE FRANCE FORMATIONS\, 9 bis rue jean jacques Rousseau\, NOEUX-LES-MINES\, 62290\, France
ORGANIZER;CN="hauts de france formations":MAILTO:a.brasseur@hdf-formations.com
END:VEVENT
BEGIN:VEVENT
DTSTART;TZID=Europe/Paris:20250715T080000
DTEND;TZID=Europe/Paris:20250718T170000
DTSTAMP:20260425T234431
CREATED:20250205T092920Z
LAST-MODIFIED:20250331T070700Z
UID:7637-1752566400-1752858000@hdf-formations.com
SUMMARY:Habilitation électrique électricien BT / H0(V)- Initiation
DESCRIPTION:Formation initiale aux risques électriques selon la NFC 18 510. \nHabilitation électrique électricien B1/B1V/B2/B2V/BR/BC. \nLe complément HTA est à effectuer sur 1 journée supplémentaire H1 / H1V / H2 / H2V / HC à définir selon niveaux \n  \nHabilitation électrique Basse Tension
URL:https://hdf-formations.com/calendrier/formation-habilitation-electrique-electricien-bt-h0v-initiation-4/
LOCATION:HAUTS DE FRANCE FORMATIONS\, 9 bis rue jean jacques Rousseau\, NOEUX-LES-MINES\, 62290\, France
ORGANIZER;CN="hauts de france formations":MAILTO:a.brasseur@hdf-formations.com
END:VEVENT
BEGIN:VEVENT
DTSTART;VALUE=DATE:20250718
DTEND;VALUE=DATE:20250719
DTSTAMP:20260425T234431
CREATED:20250205T092750Z
LAST-MODIFIED:20250205T092750Z
UID:7635-1752796800-1752883199@hdf-formations.com
SUMMARY:Complément habilitation électrique HT
DESCRIPTION:Complément ou recyclage habilitation électrique en Haute Tension HTA selon NFC 18 510 sur 1 journée  H1 / H1V / H2 / H2V / HC à définir selon niveaux. \nComplément à l’habilitation électrique électricien B1/B1V/B2/B2V/BR/BC. \nPour plus d’informations : ICI \nBT\, HTA et HTB désignent différents niveaux de tension dans les habilitations électriques. BT correspond à la basse tension\, HTA à la haute tension A (haute tension) et HTB à la haute tension B (très haute tension). \nLa HTA (haute tension A) concerne les installations avec une tension supérieure à 1000 volts en courant alternatif ou 1500 volts en courant continu\, mais inférieure à 50 000 volts en courant alternatif et 75 000 volts en courant continu. Les opérations en HTA nécessitent une habilitation électrique haute tension en raison des risques associés d’amorçage. \nLes opérations sur des postes de distribution d’énergie publique\, d’alimentation industrielle et sur des transformateurs entrent généralement dans cette catégorie.
URL:https://hdf-formations.com/calendrier/formation-habilitation-electrique-ht-3/
LOCATION:HAUTS DE FRANCE FORMATIONS\, 9 bis rue jean jacques Rousseau\, NOEUX-LES-MINES\, 62290\, France
ORGANIZER;CN="hauts de france formations":MAILTO:a.brasseur@hdf-formations.com
END:VEVENT
END:VCALENDAR