BEGIN:VCALENDAR
VERSION:2.0
PRODID:-//Hauts De France Formations - ECPv6.15.20//NONSGML v1.0//EN
CALSCALE:GREGORIAN
METHOD:PUBLISH
X-WR-CALNAME:Hauts De France Formations
X-ORIGINAL-URL:https://hdf-formations.com
X-WR-CALDESC:Évènements pour Hauts De France Formations
REFRESH-INTERVAL;VALUE=DURATION:PT1H
X-Robots-Tag:noindex
X-PUBLISHED-TTL:PT1H
BEGIN:VTIMEZONE
TZID:Europe/Paris
BEGIN:DAYLIGHT
TZOFFSETFROM:+0100
TZOFFSETTO:+0200
TZNAME:CEST
DTSTART:20250330T010000
END:DAYLIGHT
BEGIN:STANDARD
TZOFFSETFROM:+0200
TZOFFSETTO:+0100
TZNAME:CET
DTSTART:20251026T010000
END:STANDARD
BEGIN:DAYLIGHT
TZOFFSETFROM:+0100
TZOFFSETTO:+0200
TZNAME:CEST
DTSTART:20260329T010000
END:DAYLIGHT
BEGIN:STANDARD
TZOFFSETFROM:+0200
TZOFFSETTO:+0100
TZNAME:CET
DTSTART:20261025T010000
END:STANDARD
BEGIN:DAYLIGHT
TZOFFSETFROM:+0100
TZOFFSETTO:+0200
TZNAME:CEST
DTSTART:20270328T010000
END:DAYLIGHT
BEGIN:STANDARD
TZOFFSETFROM:+0200
TZOFFSETTO:+0100
TZNAME:CET
DTSTART:20271031T010000
END:STANDARD
END:VTIMEZONE
BEGIN:VEVENT
DTSTART;TZID=Europe/Paris:20260924T083000
DTEND;TZID=Europe/Paris:20260925T170000
DTSTAMP:20260423T121302
CREATED:20260119T125941Z
LAST-MODIFIED:20260119T125941Z
UID:8885-1790238600-1790355600@hdf-formations.com
SUMMARY:Habilitation électrique électricien BT - Recyclage
DESCRIPTION:Formation aux risques électriques pour électricien selon la NFC 18 510. \nRecyclage habilitation électrique opérations d’ordre électrique en Basse Tension niveaux B1(V)/B2(V)/BR/BC – H0(v)
URL:https://hdf-formations.com/calendrier/habilitation-electrique-electricien-bt-recyclage-3/
LOCATION:HAUTS DE FRANCE FORMATIONS\, 9 bis rue jean jacques Rousseau\, NOEUX-LES-MINES\, 62290\, France
ORGANIZER;CN="hauts de france formations":MAILTO:a.brasseur@hdf-formations.com
END:VEVENT
BEGIN:VEVENT
DTSTART;TZID=Europe/Paris:20261007T083000
DTEND;TZID=Europe/Paris:20261009T170000
DTSTAMP:20260423T121302
CREATED:20260415T071719Z
LAST-MODIFIED:20260415T071719Z
UID:9161-1791361800-1791565200@hdf-formations.com
SUMMARY:Habilitation électrique électricien BT / H0(V)- Initiation
DESCRIPTION:Formation initiale aux risques électriques selon la NFC 18 510. \nHabilitation électrique électricien B1/B1V/B2/B2V/BR/BC. \nLe complément HTA est à effectué sur 1 journée supplémentaire H1 / H1V / H2 / H2V / HC à définir selon niveaux
URL:https://hdf-formations.com/calendrier/habilitation-electrique-electricien-bt-h0v-initiation-2/
LOCATION:HAUTS DE FRANCE FORMATIONS\, 9 bis rue jean jacques Rousseau\, NOEUX-LES-MINES\, 62290\, France
ORGANIZER;CN="hauts de france formations":MAILTO:a.brasseur@hdf-formations.com
END:VEVENT
BEGIN:VEVENT
DTSTART;TZID=Europe/Paris:20261026T083000
DTEND;TZID=Europe/Paris:20261027T170000
DTSTAMP:20260423T121302
CREATED:20260415T071927Z
LAST-MODIFIED:20260415T071927Z
UID:9164-1793003400-1793120400@hdf-formations.com
SUMMARY:Habilitation électrique - BS BEm Recyclage
DESCRIPTION:Formation recyclage Habilitation Electrique selon NFC 18 510 – BS et / ou BE Manoeuvres \nHabilitation électrique pour personnel non électricien ayant déjà suivi une formation initiale.
URL:https://hdf-formations.com/calendrier/habilitation-electrique-bs-bem-recyclage-7/
LOCATION:HAUTS DE FRANCE FORMATIONS\, 9 bis rue jean jacques Rousseau\, NOEUX-LES-MINES\, 62290\, France
ORGANIZER;CN="hauts de france formations":MAILTO:a.brasseur@hdf-formations.com
END:VEVENT
BEGIN:VEVENT
DTSTART;VALUE=DATE:20261106
DTEND;VALUE=DATE:20261107
DTSTAMP:20260423T121302
CREATED:20251210T101823Z
LAST-MODIFIED:20260108T100827Z
UID:8700-1793923200-1794009599@hdf-formations.com
SUMMARY:Sauveteur Secouriste du Travail (SST) - MAC / RECYCLAGE
DESCRIPTION:La formation MAC (Recyclage) SST permet de maintenir et d’actualiser vos compétences en secourisme\, en intégrant les évolutions récentes\, assurant ainsi que vous restiez opérationnel en cas d’urgence.
URL:https://hdf-formations.com/calendrier/sauveteur-secouriste-du-travail-sst-mac-recyclage-2/
LOCATION:HAUTS DE FRANCE FORMATIONS\, 9 bis rue jean jacques Rousseau\, NOEUX-LES-MINES\, 62290\, France
ORGANIZER;CN="hauts de france formations":MAILTO:a.brasseur@hdf-formations.com
END:VEVENT
BEGIN:VEVENT
DTSTART;VALUE=DATE:20261112
DTEND;VALUE=DATE:20261114
DTSTAMP:20260423T121302
CREATED:20251210T103416Z
LAST-MODIFIED:20251210T103416Z
UID:8703-1794441600-1794614399@hdf-formations.com
SUMMARY:Recyclage habilitation électrique BT/HT
DESCRIPTION:Formation aux risques électriques selon la NFC 18 510 / A2 en recyclage. \nHabilitations électriques pour électricien niveaux basse tension B1/B1V/B2/B2V/BR/BC. \nHabilitations électriques pour électricien niveaux haute tension (HTA) H1 / H1V / H2 / H2V / HC.
URL:https://hdf-formations.com/calendrier/recyclage-habilitation-electrique-bt-ht/
LOCATION:HAUTS DE FRANCE FORMATIONS\, 9 bis rue jean jacques Rousseau\, NOEUX-LES-MINES\, 62290\, France
ORGANIZER;CN="hauts de france formations":MAILTO:a.brasseur@hdf-formations.com
END:VEVENT
BEGIN:VEVENT
DTSTART;TZID=Europe/Paris:20261116T083000
DTEND;TZID=Europe/Paris:20261118T170000
DTSTAMP:20260423T121302
CREATED:20260415T072043Z
LAST-MODIFIED:20260415T072043Z
UID:9169-1794817800-1795021200@hdf-formations.com
SUMMARY:Habilitation électrique électricien BT / H0(V)- Initiation
DESCRIPTION:Formation initiale aux risques électriques selon la NFC 18 510. \nHabilitation électrique électricien B1/B1V/B2/B2V/BR/BC. \nLe complément HTA est à effectué sur 1 journée supplémentaire H1 / H1V / H2 / H2V / HC à définir selon niveaux
URL:https://hdf-formations.com/calendrier/habilitation-electrique-electricien-bt-h0v-initiation-11/
LOCATION:HAUTS DE FRANCE FORMATIONS\, 9 bis rue jean jacques Rousseau\, NOEUX-LES-MINES\, 62290\, France
ORGANIZER;CN="hauts de france formations":MAILTO:a.brasseur@hdf-formations.com
END:VEVENT
END:VCALENDAR