BEGIN:VCALENDAR
VERSION:2.0
PRODID:-//Hauts De France Formations - ECPv6.15.20//NONSGML v1.0//EN
CALSCALE:GREGORIAN
METHOD:PUBLISH
X-WR-CALNAME:Hauts De France Formations
X-ORIGINAL-URL:https://hdf-formations.com
X-WR-CALDESC:Évènements pour Hauts De France Formations
REFRESH-INTERVAL;VALUE=DURATION:PT1H
X-Robots-Tag:noindex
X-PUBLISHED-TTL:PT1H
BEGIN:VTIMEZONE
TZID:Europe/Paris
BEGIN:DAYLIGHT
TZOFFSETFROM:+0100
TZOFFSETTO:+0200
TZNAME:CEST
DTSTART:20250330T010000
END:DAYLIGHT
BEGIN:STANDARD
TZOFFSETFROM:+0200
TZOFFSETTO:+0100
TZNAME:CET
DTSTART:20251026T010000
END:STANDARD
BEGIN:DAYLIGHT
TZOFFSETFROM:+0100
TZOFFSETTO:+0200
TZNAME:CEST
DTSTART:20260329T010000
END:DAYLIGHT
BEGIN:STANDARD
TZOFFSETFROM:+0200
TZOFFSETTO:+0100
TZNAME:CET
DTSTART:20261025T010000
END:STANDARD
BEGIN:DAYLIGHT
TZOFFSETFROM:+0100
TZOFFSETTO:+0200
TZNAME:CEST
DTSTART:20270328T010000
END:DAYLIGHT
BEGIN:STANDARD
TZOFFSETFROM:+0200
TZOFFSETTO:+0100
TZNAME:CET
DTSTART:20271031T010000
END:STANDARD
END:VTIMEZONE
BEGIN:VEVENT
DTSTART;TZID=Europe/Paris:20260504T083000
DTEND;TZID=Europe/Paris:20260505T170000
DTSTAMP:20260423T124518
CREATED:20260129T080107Z
LAST-MODIFIED:20260129T080107Z
UID:8937-1777883400-1778000400@hdf-formations.com
SUMMARY:Habilitation Electrique - BS BEm initial
DESCRIPTION:Formation initiale habilitation électrique selon NFC 18 510 – BS et / ou BE Manoeuvres. \nHabilitation électrique pour personnel non électricien. \n  \nBS-BE
URL:https://hdf-formations.com/calendrier/habilitation-electrique-bs-bem-initial/
LOCATION:HAUTS DE FRANCE FORMATIONS\, 9 bis rue jean jacques Rousseau\, NOEUX-LES-MINES\, 62290\, France
ORGANIZER;CN="hauts de france formations":MAILTO:a.brasseur@hdf-formations.com
END:VEVENT
END:VCALENDAR