BEGIN:VCALENDAR
VERSION:2.0
PRODID:-//Hauts De France Formations - ECPv6.15.20//NONSGML v1.0//EN
CALSCALE:GREGORIAN
METHOD:PUBLISH
X-WR-CALNAME:Hauts De France Formations
X-ORIGINAL-URL:https://hdf-formations.com
X-WR-CALDESC:Évènements pour Hauts De France Formations
REFRESH-INTERVAL;VALUE=DURATION:PT1H
X-Robots-Tag:noindex
X-PUBLISHED-TTL:PT1H
BEGIN:VTIMEZONE
TZID:Europe/Paris
BEGIN:DAYLIGHT
TZOFFSETFROM:+0100
TZOFFSETTO:+0200
TZNAME:CEST
DTSTART:20250330T010000
END:DAYLIGHT
BEGIN:STANDARD
TZOFFSETFROM:+0200
TZOFFSETTO:+0100
TZNAME:CET
DTSTART:20251026T010000
END:STANDARD
BEGIN:DAYLIGHT
TZOFFSETFROM:+0100
TZOFFSETTO:+0200
TZNAME:CEST
DTSTART:20260329T010000
END:DAYLIGHT
BEGIN:STANDARD
TZOFFSETFROM:+0200
TZOFFSETTO:+0100
TZNAME:CET
DTSTART:20261025T010000
END:STANDARD
BEGIN:DAYLIGHT
TZOFFSETFROM:+0100
TZOFFSETTO:+0200
TZNAME:CEST
DTSTART:20270328T010000
END:DAYLIGHT
BEGIN:STANDARD
TZOFFSETFROM:+0200
TZOFFSETTO:+0100
TZNAME:CET
DTSTART:20271031T010000
END:STANDARD
END:VTIMEZONE
BEGIN:VEVENT
DTSTART;TZID=Europe/Paris:20260401T083000
DTEND;TZID=Europe/Paris:20260403T170000
DTSTAMP:20260423T104316
CREATED:20260216T092920Z
LAST-MODIFIED:20260216T092920Z
UID:8978-1775032200-1775235600@hdf-formations.com
SUMMARY:Habilitation électrique électricien BT / H0(V)- Initiation
DESCRIPTION:Formation initiale aux risques électriques selon la NFC 18 510. \nHabilitation électrique électricien B1/B1V/B2/B2V/BR/BC. \nLe complément HTA est à effectué sur 1 journée supplémentaire H1 / H1V / H2 / H2V / HC à définir selon niveaux
URL:https://hdf-formations.com/calendrier/habilitation-electrique-electricien-bt-h0v-initiation-7/
LOCATION:HAUTS DE FRANCE FORMATIONS\, 9 bis rue jean jacques Rousseau\, NOEUX-LES-MINES\, 62290\, France
ORGANIZER;CN="hauts de france formations":MAILTO:a.brasseur@hdf-formations.com
END:VEVENT
END:VCALENDAR