BEGIN:VCALENDAR
VERSION:2.0
PRODID:-//Hauts De France Formations - ECPv6.15.20//NONSGML v1.0//EN
CALSCALE:GREGORIAN
METHOD:PUBLISH
X-WR-CALNAME:Hauts De France Formations
X-ORIGINAL-URL:https://hdf-formations.com
X-WR-CALDESC:Évènements pour Hauts De France Formations
REFRESH-INTERVAL;VALUE=DURATION:PT1H
X-Robots-Tag:noindex
X-PUBLISHED-TTL:PT1H
BEGIN:VTIMEZONE
TZID:Europe/Paris
BEGIN:DAYLIGHT
TZOFFSETFROM:+0100
TZOFFSETTO:+0200
TZNAME:CEST
DTSTART:20250330T010000
END:DAYLIGHT
BEGIN:STANDARD
TZOFFSETFROM:+0200
TZOFFSETTO:+0100
TZNAME:CET
DTSTART:20251026T010000
END:STANDARD
BEGIN:DAYLIGHT
TZOFFSETFROM:+0100
TZOFFSETTO:+0200
TZNAME:CEST
DTSTART:20260329T010000
END:DAYLIGHT
BEGIN:STANDARD
TZOFFSETFROM:+0200
TZOFFSETTO:+0100
TZNAME:CET
DTSTART:20261025T010000
END:STANDARD
BEGIN:DAYLIGHT
TZOFFSETFROM:+0100
TZOFFSETTO:+0200
TZNAME:CEST
DTSTART:20270328T010000
END:DAYLIGHT
BEGIN:STANDARD
TZOFFSETFROM:+0200
TZOFFSETTO:+0100
TZNAME:CET
DTSTART:20271031T010000
END:STANDARD
END:VTIMEZONE
BEGIN:VEVENT
DTSTART;VALUE=DATE:20260122
DTEND;VALUE=DATE:20260123
DTSTAMP:20260425T153648
CREATED:20251126T084622Z
LAST-MODIFIED:20251203T095737Z
UID:8639-1769040000-1769126399@hdf-formations.com
SUMMARY:Complément habilitation électrique Haute Tension (HT)
DESCRIPTION:Complément ou recyclage habilitation électrique en Haute Tension HTA selon NFC 18 510 sur 1 journée  H1 / H1V / H2 / H2V / HC à définir selon niveaux. \nComplément à l’habilitation électrique électricien B1/B1V/B2/B2V/BR/BC. \nPour plus d’informations : ICI \nBT\, HTA et HTB désignent différents niveaux de tension dans les habilitations électriques. BT correspond à la basse tension\, HTA à la haute tension A (haute tension) et HTB à la haute tension B (très haute tension). \nLa HTA (haute tension A) concerne les installations avec une tension supérieure à 1000 volts en courant alternatif ou 1500 volts en courant continu\, mais inférieure à 50 000 volts en courant alternatif et 75 000 volts en courant continu. Les opérations en HTA nécessitent une habilitation électrique haute tension en raison des risques associés d’amorçage. \nLes opérations sur des postes de distribution d’énergie publique\, d’alimentation industrielle et sur des transformateurs entrent généralement dans cette catégorie.
URL:https://hdf-formations.com/calendrier/complement-habilitation-electrique-haute-tension-ht/
LOCATION:HAUTS DE FRANCE FORMATIONS\, 9 bis rue jean jacques Rousseau\, NOEUX-LES-MINES\, 62290\, France
ORGANIZER;CN="hauts de france formations":MAILTO:a.brasseur@hdf-formations.com
END:VEVENT
END:VCALENDAR